BEGIN:VCALENDAR
VERSION:2.0
PRODID:-//wp-events-plugin.com//6.5.2//EN
TZID:America/Los_Angeles
X-WR-TIMEZONE:America/Los_Angeles
BEGIN:VEVENT
UID:4@english.scacseattle.org
DTSTART;TZID=America/Los_Angeles:20120422T100000
DTEND;TZID=America/Los_Angeles:20120422T110000
DTSTAMP:20120419T121925Z
URL:https://english.scacseattle.org/events/justice/
SUMMARY:English Worship - "Justice" -  - 22 Apr 12 10:00
DESCRIPTION:World Vision - Rev. Dan Samuelson will be sharing the "Justice"
END:VEVENT
BEGIN:VEVENT
UID:15@english.scacseattle.org
DTSTART;TZID=America/Los_Angeles;VALUE=DATE:20120427
DTEND;TZID=America/Los_Angeles;VALUE=DATE:20120430
DTSTAMP:20120420T003815Z
URL:https://english.scacseattle.org/events/stm_training/
SUMMARY:STM Training Retreat -  - 27 Apr 12 00:00
DESCRIPTION:
END:VEVENT
BEGIN:VEVENT
UID:16@english.scacseattle.org
DTSTART;TZID=America/Los_Angeles:20120513T000000
DTEND;TZID=America/Los_Angeles:20120513T000000
DTSTAMP:20120420T003847Z
URL:https://english.scacseattle.org/events/tribute_mother/
SUMMARY:Trinute to Mother -  - 13 May 12 00:00
DESCRIPTION:
END:VEVENT
BEGIN:VEVENT
UID:17@english.scacseattle.org
DTSTART;TZID=America/Los_Angeles;VALUE=DATE:20120525
DTEND;TZID=America/Los_Angeles;VALUE=DATE:20120529
DTSTAMP:20120420T003931Z
URL:https://english.scacseattle.org/events/emmanuel_retreat/
SUMMARY:Emmanuel Staff Retreat -  - 25 May 12 00:00
DESCRIPTION:
END:VEVENT
BEGIN:VEVENT
UID:18@english.scacseattle.org
DTSTART;TZID=America/Los_Angeles:20120602T103000
DTEND;TZID=America/Los_Angeles:20120602T133000
DTSTAMP:20120420T004008Z
URL:https://english.scacseattle.org/events/parents_luncheon/
SUMMARY:Parents Luncheon -  - 2 Jun 12 10:30
DESCRIPTION:
END:VEVENT
BEGIN:VEVENT
UID:19@english.scacseattle.org
DTSTART;TZID=America/Los_Angeles:20120617T113000
DTEND;TZID=America/Los_Angeles:20120617T123000
DTSTAMP:20120420T004031Z
URL:https://english.scacseattle.org/events/tribute_father/
SUMMARY:Tribute to Father -  - 17 Jun 12 11:30
DESCRIPTION:
END:VEVENT
BEGIN:VEVENT
UID:20@english.scacseattle.org
DTSTART;TZID=America/Los_Angeles:20120624T113000
DTEND;TZID=America/Los_Angeles:20120624T123000
DTSTAMP:20120420T004118Z
URL:https://english.scacseattle.org/events/graduation/
SUMMARY:Graduation Sunday -  - 24 Jun 12 11:30
DESCRIPTION:
END:VEVENT
BEGIN:VEVENT
UID:14@english.scacseattle.org
DTSTART;TZID=America/Los_Angeles;VALUE=DATE:20120707
DTEND;TZID=America/Los_Angeles;VALUE=DATE:20120709
DTSTAMP:20120419T121449Z
URL:https://english.scacseattle.org/events/seafair/
SUMMARY:Seafair Internation District Booth -  - 7 Jul 12 00:00
DESCRIPTION:
END:VEVENT
BEGIN:VEVENT
UID:21@english.scacseattle.org
DTSTART;TZID=America/Los_Angeles:20120715T110000
DTEND;TZID=America/Los_Angeles:20120715T120000
DTSTAMP:20120712T064854Z
URL:https://english.scacseattle.org/events/baptism-class/
SUMMARY:Baptism Class -  - 15 Jul 12 11:00
DESCRIPTION:
END:VEVENT
BEGIN:VEVENT
UID:22@english.scacseattle.org
DTSTART;TZID=America/Los_Angeles:20120729T100000
DTEND;TZID=America/Los_Angeles:20120729T110000
DTSTAMP:20120712T065016Z
URL:https://english.scacseattle.org/events/baptism/
SUMMARY:Baptism -  - 29 Jul 12 10:00
DESCRIPTION:
END:VEVENT
BEGIN:VEVENT
UID:13@english.scacseattle.org
DTSTART;TZID=America/Los_Angeles:20120805T100000
DTEND;TZID=America/Los_Angeles:20120805T110000
DTSTAMP:20120712T064651Z
URL:https://english.scacseattle.org/events/em_worship_in_the_park/
SUMMARY:EM Worship in the Park -  - 5 Aug 12 10:00
DESCRIPTION:
END:VEVENT
BEGIN:VEVENT
UID:12@english.scacseattle.org
DTSTART;TZID=America/Los_Angeles;VALUE=DATE:20120921
DTEND;TZID=America/Los_Angeles;VALUE=DATE:20120924
DTSTAMP:20120419T121355Z
URL:https://english.scacseattle.org/events/cm_summer_conference/
SUMMARY:CM Summer Conference -  - 21 Sep 12 00:00
DESCRIPTION:
END:VEVENT
BEGIN:VEVENT
UID:11@english.scacseattle.org
DTSTART;TZID=America/Los_Angeles:20121031T000000
DTEND;TZID=America/Los_Angeles:20121031T220000
DTSTAMP:20120419T121337Z
URL:https://english.scacseattle.org/events/children_carnival/
SUMMARY:Children Carnival -  - 31 Oct 12 00:00
DESCRIPTION:
END:VEVENT
BEGIN:VEVENT
UID:10@english.scacseattle.org
DTSTART;TZID=America/Los_Angeles:20121102T000000
DTEND;TZID=America/Los_Angeles:20121104T090000
DTSTAMP:20120419T121309Z
URL:https://english.scacseattle.org/events/cm_evangelism_event/
SUMMARY:CM Evangelistic Event -  - 2 Nov 12 00:00
DESCRIPTION:
END:VEVENT
BEGIN:VEVENT
UID:9@english.scacseattle.org
DTSTART;TZID=America/Los_Angeles;VALUE=DATE:20121109
DTEND;TZID=America/Los_Angeles;VALUE=DATE:20121112
DTSTAMP:20120419T121239Z
URL:https://english.scacseattle.org/events/mission_conference/
SUMMARY:Mission Conference -  - 9 Nov 12 00:00
DESCRIPTION:
END:VEVENT
BEGIN:VEVENT
UID:8@english.scacseattle.org
DTSTART;TZID=America/Los_Angeles:20121117T000000
DTEND;TZID=America/Los_Angeles:20121117T000000
DTSTAMP:20120419T121221Z
URL:https://english.scacseattle.org/events/thanksgiving_celebration/
SUMMARY:CM\,EM Thanksgiving Celebration -  - 17 Nov 12 00:00
DESCRIPTION:
END:VEVENT
BEGIN:VEVENT
UID:7@english.scacseattle.org
DTSTART;TZID=America/Los_Angeles:20121118T113000
DTEND;TZID=America/Los_Angeles:20121118T123000
DTSTAMP:20120419T121154Z
URL:https://english.scacseattle.org/events/baptismal_service/
SUMMARY:Baptismal Service -  - 18 Nov 12 11:30
DESCRIPTION:
END:VEVENT
BEGIN:VEVENT
UID:6@english.scacseattle.org
DTSTART;TZID=America/Los_Angeles:20121201T100000
DTEND;TZID=America/Los_Angeles:20121201T100000
DTSTAMP:20120419T121131Z
URL:https://english.scacseattle.org/events/senior_christmas_celebration/
SUMMARY:Senior Christmas Celebration -  - 1 Dec 12 10:00
DESCRIPTION:
END:VEVENT
BEGIN:VEVENT
UID:5@english.scacseattle.org
DTSTART;TZID=America/Los_Angeles;VALUE=DATE:20121225
DTEND;TZID=America/Los_Angeles;VALUE=DATE:20121226
DTSTAMP:20120419T121102Z
URL:https://english.scacseattle.org/events/christmas_day_service/
SUMMARY:Christmas Day Service -  - 25 Dec 12 00:00
DESCRIPTION:
END:VEVENT
BEGIN:VTIMEZONE
TZID:America/Los_Angeles
X-LIC-LOCATION:America/Los_Angeles
BEGIN:DAYLIGHT
DTSTART:20120311T030000
TZOFFSETFROM:-0800
TZOFFSETTO:-0700
TZNAME:PDT
END:DAYLIGHT
BEGIN:STANDARD
DTSTART:20121104T010000
TZOFFSETFROM:-0700
TZOFFSETTO:-0800
TZNAME:PST
END:STANDARD
END:VTIMEZONE
END:VCALENDAR